BEGIN:VCALENDAR
VERSION:2.0
PRODID:-//Soul Food Impact Empowerment - ECPv6.15.20//NONSGML v1.0//EN
CALSCALE:GREGORIAN
METHOD:PUBLISH
X-WR-CALNAME:Soul Food Impact Empowerment
X-ORIGINAL-URL:https://soulfoodimpactempowerment.org
X-WR-CALDESC:Events for Soul Food Impact Empowerment
REFRESH-INTERVAL;VALUE=DURATION:PT1H
X-Robots-Tag:noindex
X-PUBLISHED-TTL:PT1H
BEGIN:VTIMEZONE
TZID:UTC
BEGIN:STANDARD
TZOFFSETFROM:+0000
TZOFFSETTO:+0000
TZNAME:UTC
DTSTART:20250101T000000
END:STANDARD
END:VTIMEZONE
BEGIN:VEVENT
DTSTART;VALUE=DATE:20260801
DTEND;VALUE=DATE:20260802
DTSTAMP:20260421T154158
CREATED:20260318T222716Z
LAST-MODIFIED:20260404T090019Z
UID:25605-1785542400-1785628799@soulfoodimpactempowerment.org
SUMMARY:The official inauguration & Cultural Festival
DESCRIPTION:The Scope: The highlight of our year. We formally inaugurate SFIE’s new 12-month cycle with a high-profile Gala and Community Festival. Expect VIP keynote speakers\, live arts\, and music.
URL:https://soulfoodimpactempowerment.org/event/the-official-inauguration-cultural-festival/
END:VEVENT
END:VCALENDAR