BEGIN:VCALENDAR
VERSION:2.0
PRODID:-//Soul Food Impact Empowerment - ECPv6.15.20//NONSGML v1.0//EN
CALSCALE:GREGORIAN
METHOD:PUBLISH
X-WR-CALNAME:Soul Food Impact Empowerment
X-ORIGINAL-URL:https://soulfoodimpactempowerment.org
X-WR-CALDESC:Events for Soul Food Impact Empowerment
REFRESH-INTERVAL;VALUE=DURATION:PT1H
X-Robots-Tag:noindex
X-PUBLISHED-TTL:PT1H
BEGIN:VTIMEZONE
TZID:UTC
BEGIN:STANDARD
TZOFFSETFROM:+0000
TZOFFSETTO:+0000
TZNAME:UTC
DTSTART:20250101T000000
END:STANDARD
END:VTIMEZONE
BEGIN:VEVENT
DTSTART;VALUE=DATE:20261001
DTEND;VALUE=DATE:20261002
DTSTAMP:20260421T191237
CREATED:20260318T223457Z
LAST-MODIFIED:20260404T085955Z
UID:25613-1790812800-1790899199@soulfoodimpactempowerment.org
SUMMARY:The Digital & Academic Edge
DESCRIPTION:The Scope: Education is the ultimate equalizer. We roll out Digital Literacy Training and Academic Tutoring. Our volunteers provide the 1-on-1 support that school systems often miss.
URL:https://soulfoodimpactempowerment.org/event/the-digital-academic-edge/
END:VEVENT
END:VCALENDAR