BEGIN:VCALENDAR
VERSION:2.0
PRODID:-//Soul Food Impact Empowerment - ECPv6.15.20//NONSGML v1.0//EN
CALSCALE:GREGORIAN
METHOD:PUBLISH
X-ORIGINAL-URL:https://soulfoodimpactempowerment.org
X-WR-CALDESC:Events for Soul Food Impact Empowerment
REFRESH-INTERVAL;VALUE=DURATION:PT1H
X-Robots-Tag:noindex
X-PUBLISHED-TTL:PT1H
BEGIN:VTIMEZONE
TZID:UTC
BEGIN:STANDARD
TZOFFSETFROM:+0000
TZOFFSETTO:+0000
TZNAME:UTC
DTSTART:20250101T000000
END:STANDARD
END:VTIMEZONE
BEGIN:VEVENT
DTSTART;VALUE=DATE:20261101
DTEND;VALUE=DATE:20261102
DTSTAMP:20260421T205544
CREATED:20260318T224240Z
LAST-MODIFIED:20260404T085944Z
UID:25616-1793491200-1793577599@soulfoodimpactempowerment.org
SUMMARY:The Innovation & Entrepreneurship Forum
DESCRIPTION:The Scope: We challenge our youth to think like CEOs. This month features Innovation Challenges and networking sessions with business leaders to spark community-grown enterprises.
URL:https://soulfoodimpactempowerment.org/event/the-innovation-entrepreneurship-forum/
END:VEVENT
END:VCALENDAR