BEGIN:VCALENDAR
VERSION:2.0
PRODID:-//Soul Food Impact Empowerment - ECPv6.15.20//NONSGML v1.0//EN
CALSCALE:GREGORIAN
METHOD:PUBLISH
X-WR-CALNAME:Soul Food Impact Empowerment
X-ORIGINAL-URL:https://soulfoodimpactempowerment.org
X-WR-CALDESC:Events for Soul Food Impact Empowerment
REFRESH-INTERVAL;VALUE=DURATION:PT1H
X-Robots-Tag:noindex
X-PUBLISHED-TTL:PT1H
BEGIN:VTIMEZONE
TZID:UTC
BEGIN:STANDARD
TZOFFSETFROM:+0000
TZOFFSETTO:+0000
TZNAME:UTC
DTSTART:20260101T000000
END:STANDARD
END:VTIMEZONE
BEGIN:VEVENT
DTSTART;VALUE=DATE:20270501
DTEND;VALUE=DATE:20270502
DTSTAMP:20260422T225005
CREATED:20260318T230409Z
LAST-MODIFIED:20260404T085831Z
UID:25661-1809129600-1809215999@soulfoodimpactempowerment.org
SUMMARY:The Annual Impact Summit
DESCRIPTION:The Scope: The grand finale. We present our Annual Impact Report to partners and funders. We evaluate our successes and lay the groundwork for the next 12-month cycle.
URL:https://soulfoodimpactempowerment.org/event/the-annual-impact-summit/
END:VEVENT
END:VCALENDAR