BEGIN:VCALENDAR
VERSION:2.0
PRODID:-//Soul Food Impact Empowerment - ECPv6.15.20//NONSGML v1.0//EN
CALSCALE:GREGORIAN
METHOD:PUBLISH
X-ORIGINAL-URL:https://soulfoodimpactempowerment.org
X-WR-CALDESC:Events for Soul Food Impact Empowerment
REFRESH-INTERVAL;VALUE=DURATION:PT1H
X-Robots-Tag:noindex
X-PUBLISHED-TTL:PT1H
BEGIN:VTIMEZONE
TZID:UTC
BEGIN:STANDARD
TZOFFSETFROM:+0000
TZOFFSETTO:+0000
TZNAME:UTC
DTSTART:20250101T000000
END:STANDARD
END:VTIMEZONE
BEGIN:VEVENT
DTSTART;VALUE=DATE:20260601
DTEND;VALUE=DATE:20260602
DTSTAMP:20260421T125406
CREATED:20260318T222346Z
LAST-MODIFIED:20260404T085812Z
UID:25598-1780272000-1780358399@soulfoodimpactempowerment.org
SUMMARY:The Global Induction
DESCRIPTION:Scope: We kick off the year with an intensive International Volunteer Orientation. This isn’t just a meeting; it’s a cultural deep dive. Volunteers undergo safeguarding training\, learn the nuances of UK community development\, and bond through team-building exercises. \n* Join Us: Become a Programme Assistant or Research Support specialist and set the stage for a year of change. (call to action- link to get involved page)
URL:https://soulfoodimpactempowerment.org/event/the-global-induction/
END:VEVENT
END:VCALENDAR