BEGIN:VCALENDAR
VERSION:2.0
PRODID:-//Soul Food Impact Empowerment - ECPv6.15.20//NONSGML v1.0//EN
CALSCALE:GREGORIAN
METHOD:PUBLISH
X-WR-CALNAME:Soul Food Impact Empowerment
X-ORIGINAL-URL:https://soulfoodimpactempowerment.org
X-WR-CALDESC:Events for Soul Food Impact Empowerment
REFRESH-INTERVAL;VALUE=DURATION:PT1H
X-Robots-Tag:noindex
X-PUBLISHED-TTL:PT1H
BEGIN:VTIMEZONE
TZID:UTC
BEGIN:STANDARD
TZOFFSETFROM:+0000
TZOFFSETTO:+0000
TZNAME:UTC
DTSTART:20250101T000000
END:STANDARD
END:VTIMEZONE
BEGIN:VEVENT
DTSTART;VALUE=DATE:20260901
DTEND;VALUE=DATE:20260902
DTSTAMP:20260421T173413
CREATED:20260318T222921Z
LAST-MODIFIED:20260404T090008Z
UID:25607-1788220800-1788307199@soulfoodimpactempowerment.org
SUMMARY:The Youth Leadership Blueprint
DESCRIPTION:The Scope: As the school year begins\, we launch our Youth Leadership Development Programme. We pair international mentors with local youth to build teamwork\, communication\, and civic pride.
URL:https://soulfoodimpactempowerment.org/event/the-youth-leadership-blueprint/
END:VEVENT
END:VCALENDAR