BEGIN:VCALENDAR
VERSION:2.0
PRODID:-//Soul Food Impact Empowerment - ECPv6.15.20//NONSGML v1.0//EN
CALSCALE:GREGORIAN
METHOD:PUBLISH
X-ORIGINAL-URL:https://soulfoodimpactempowerment.org
X-WR-CALDESC:Events for Soul Food Impact Empowerment
REFRESH-INTERVAL;VALUE=DURATION:PT1H
X-Robots-Tag:noindex
X-PUBLISHED-TTL:PT1H
BEGIN:VTIMEZONE
TZID:UTC
BEGIN:STANDARD
TZOFFSETFROM:+0000
TZOFFSETTO:+0000
TZNAME:UTC
DTSTART:20260101T000000
END:STANDARD
END:VTIMEZONE
BEGIN:VEVENT
DTSTART;VALUE=DATE:20270401
DTEND;VALUE=DATE:20270402
DTSTAMP:20260422T051116
CREATED:20260318T230325Z
LAST-MODIFIED:20260404T085841Z
UID:25659-1806537600-1806623999@soulfoodimpactempowerment.org
SUMMARY:Volunteer Impact & Storytelling Week
DESCRIPTION:The Scope: A week dedicated to celebrating our champions. We use film\, photography\, and storytelling to showcase the transformations that happened over the year.
URL:https://soulfoodimpactempowerment.org/event/volunteer-impact-storytelling-week/
END:VEVENT
END:VCALENDAR